BEGIN:VCALENDAR
VERSION:2.0
PRODID:-//USET Foundation - ECPv6.15.11//NONSGML v1.0//EN
CALSCALE:GREGORIAN
METHOD:PUBLISH
X-ORIGINAL-URL:https://www.uset.org
X-WR-CALDESC:Events for USET Foundation
REFRESH-INTERVAL;VALUE=DURATION:PT1H
X-Robots-Tag:noindex
X-PUBLISHED-TTL:PT1H
BEGIN:VTIMEZONE
TZID:America/New_York
BEGIN:DAYLIGHT
TZOFFSETFROM:-0500
TZOFFSETTO:-0400
TZNAME:EDT
DTSTART:20210314T070000
END:DAYLIGHT
BEGIN:STANDARD
TZOFFSETFROM:-0400
TZOFFSETTO:-0500
TZNAME:EST
DTSTART:20211107T060000
END:STANDARD
BEGIN:DAYLIGHT
TZOFFSETFROM:-0500
TZOFFSETTO:-0400
TZNAME:EDT
DTSTART:20220313T070000
END:DAYLIGHT
BEGIN:STANDARD
TZOFFSETFROM:-0400
TZOFFSETTO:-0500
TZNAME:EST
DTSTART:20221106T060000
END:STANDARD
BEGIN:DAYLIGHT
TZOFFSETFROM:-0500
TZOFFSETTO:-0400
TZNAME:EDT
DTSTART:20230312T070000
END:DAYLIGHT
BEGIN:STANDARD
TZOFFSETFROM:-0400
TZOFFSETTO:-0500
TZNAME:EST
DTSTART:20231105T060000
END:STANDARD
BEGIN:DAYLIGHT
TZOFFSETFROM:-0500
TZOFFSETTO:-0400
TZNAME:EDT
DTSTART:20240310T070000
END:DAYLIGHT
BEGIN:STANDARD
TZOFFSETFROM:-0400
TZOFFSETTO:-0500
TZNAME:EST
DTSTART:20241103T060000
END:STANDARD
BEGIN:DAYLIGHT
TZOFFSETFROM:-0500
TZOFFSETTO:-0400
TZNAME:EDT
DTSTART:20250309T070000
END:DAYLIGHT
BEGIN:STANDARD
TZOFFSETFROM:-0400
TZOFFSETTO:-0500
TZNAME:EST
DTSTART:20251102T060000
END:STANDARD
BEGIN:DAYLIGHT
TZOFFSETFROM:-0500
TZOFFSETTO:-0400
TZNAME:EDT
DTSTART:20260308T070000
END:DAYLIGHT
BEGIN:STANDARD
TZOFFSETFROM:-0400
TZOFFSETTO:-0500
TZNAME:EST
DTSTART:20261101T060000
END:STANDARD
END:VTIMEZONE
BEGIN:VEVENT
DTSTART;TZID=America/New_York:20250611T000000
DTEND;TZID=America/New_York:20250615T000000
DTSTAMP:20260422T231914
CREATED:20241212T175937Z
LAST-MODIFIED:20241213T215954Z
UID:39094-1749600000-1749945600@www.uset.org
SUMMARY:Hagen CDIOY
DESCRIPTION:
URL:https://www.uset.org/event/hagen-cdioy-3/
LOCATION:Hagen GER
CATEGORIES:Dressage
END:VEVENT
BEGIN:VEVENT
DTSTART;TZID=America/New_York:20240613T000000
DTEND;TZID=America/New_York:20240616T000000
DTSTAMP:20260422T231914
CREATED:20240205T164400Z
LAST-MODIFIED:20240311T170616Z
UID:35062-1718236800-1718496000@www.uset.org
SUMMARY:Hagen
DESCRIPTION:
URL:https://www.uset.org/event/hagen-2/
LOCATION:Hagen GER
CATEGORIES:Dressage
END:VEVENT
BEGIN:VEVENT
DTSTART;TZID=America/New_York:20230613T000000
DTEND;TZID=America/New_York:20230618T000000
DTSTAMP:20260422T231914
CREATED:20230825T184156Z
LAST-MODIFIED:20230825T184156Z
UID:32955-1686614400-1687046400@www.uset.org
SUMMARY:Hagen
DESCRIPTION:
URL:https://www.uset.org/event/hagen/
LOCATION:Hagen GER
CATEGORIES:Dressage
END:VEVENT
BEGIN:VEVENT
DTSTART;TZID=America/New_York:20220614T000000
DTEND;TZID=America/New_York:20220619T000000
DTSTAMP:20260422T231914
CREATED:20220110T152222Z
LAST-MODIFIED:20220608T191410Z
UID:26626-1655164800-1655596800@www.uset.org
SUMMARY:Hagen CDIOY
DESCRIPTION:
URL:https://www.uset.org/event/hagen-cdioy-2/
LOCATION:Hagen GER
CATEGORIES:Dressage
END:VEVENT
END:VCALENDAR