BEGIN:VCALENDAR
VERSION:2.0
PRODID:-//USET Foundation - ECPv6.15.11//NONSGML v1.0//EN
CALSCALE:GREGORIAN
METHOD:PUBLISH
X-ORIGINAL-URL:https://www.uset.org
X-WR-CALDESC:Events for USET Foundation
REFRESH-INTERVAL;VALUE=DURATION:PT1H
X-Robots-Tag:noindex
X-PUBLISHED-TTL:PT1H
BEGIN:VTIMEZONE
TZID:America/New_York
BEGIN:DAYLIGHT
TZOFFSETFROM:-0500
TZOFFSETTO:-0400
TZNAME:EDT
DTSTART:20210314T070000
END:DAYLIGHT
BEGIN:STANDARD
TZOFFSETFROM:-0400
TZOFFSETTO:-0500
TZNAME:EST
DTSTART:20211107T060000
END:STANDARD
BEGIN:DAYLIGHT
TZOFFSETFROM:-0500
TZOFFSETTO:-0400
TZNAME:EDT
DTSTART:20220313T070000
END:DAYLIGHT
BEGIN:STANDARD
TZOFFSETFROM:-0400
TZOFFSETTO:-0500
TZNAME:EST
DTSTART:20221106T060000
END:STANDARD
BEGIN:DAYLIGHT
TZOFFSETFROM:-0500
TZOFFSETTO:-0400
TZNAME:EDT
DTSTART:20230312T070000
END:DAYLIGHT
BEGIN:STANDARD
TZOFFSETFROM:-0400
TZOFFSETTO:-0500
TZNAME:EST
DTSTART:20231105T060000
END:STANDARD
BEGIN:DAYLIGHT
TZOFFSETFROM:-0500
TZOFFSETTO:-0400
TZNAME:EDT
DTSTART:20240310T070000
END:DAYLIGHT
BEGIN:STANDARD
TZOFFSETFROM:-0400
TZOFFSETTO:-0500
TZNAME:EST
DTSTART:20241103T060000
END:STANDARD
BEGIN:DAYLIGHT
TZOFFSETFROM:-0500
TZOFFSETTO:-0400
TZNAME:EDT
DTSTART:20250309T070000
END:DAYLIGHT
BEGIN:STANDARD
TZOFFSETFROM:-0400
TZOFFSETTO:-0500
TZNAME:EST
DTSTART:20251102T060000
END:STANDARD
BEGIN:DAYLIGHT
TZOFFSETFROM:-0500
TZOFFSETTO:-0400
TZNAME:EDT
DTSTART:20260308T070000
END:DAYLIGHT
BEGIN:STANDARD
TZOFFSETFROM:-0400
TZOFFSETTO:-0500
TZNAME:EST
DTSTART:20261101T060000
END:STANDARD
END:VTIMEZONE
BEGIN:VEVENT
DTSTART;TZID=America/New_York:20250806T000000
DTEND;TZID=America/New_York:20250810T000000
DTSTAMP:20260423T013016
CREATED:20241212T180037Z
LAST-MODIFIED:20241213T220755Z
UID:39116-1754438400-1754784000@www.uset.org
SUMMARY:Dublin CSIO5*
DESCRIPTION:
URL:https://www.uset.org/event/dublin-csio5-6/
LOCATION:Dublin IRL
CATEGORIES:Jumping
END:VEVENT
BEGIN:VEVENT
DTSTART;TZID=America/New_York:20240814T000000
DTEND;TZID=America/New_York:20240818T000000
DTSTAMP:20260423T013016
CREATED:20240205T164715Z
LAST-MODIFIED:20240311T171205Z
UID:35084-1723593600-1723939200@www.uset.org
SUMMARY:Dublin CSIO5*
DESCRIPTION:
URL:https://www.uset.org/event/dublin-csio5-5/
LOCATION:Dublin IRL
CATEGORIES:Jumping
END:VEVENT
BEGIN:VEVENT
DTSTART;TZID=America/New_York:20230809T000000
DTEND;TZID=America/New_York:20230813T000000
DTSTAMP:20260423T013016
CREATED:20230825T192805Z
LAST-MODIFIED:20230825T192805Z
UID:32985-1691539200-1691884800@www.uset.org
SUMMARY:Dublin CSIO5*
DESCRIPTION:
URL:https://www.uset.org/event/dublin-csio5-2/
LOCATION:Dublin IRL
CATEGORIES:Jumping
END:VEVENT
BEGIN:VEVENT
DTSTART;TZID=America/New_York:20220817T000000
DTEND;TZID=America/New_York:20220822T000000
DTSTAMP:20260423T013016
CREATED:20220110T162420Z
LAST-MODIFIED:20220608T191339Z
UID:26672-1660694400-1661126400@www.uset.org
SUMMARY:Dublin CSIO5*
DESCRIPTION:
URL:https://www.uset.org/event/dublin-csio5/
LOCATION:Dublin IRL
CATEGORIES:Jumping
END:VEVENT
END:VCALENDAR