BEGIN:VCALENDAR
VERSION:2.0
PRODID:-//USET Foundation - ECPv6.15.11//NONSGML v1.0//EN
CALSCALE:GREGORIAN
METHOD:PUBLISH
X-WR-CALNAME:USET Foundation
X-ORIGINAL-URL:https://www.uset.org
X-WR-CALDESC:Events for USET Foundation
REFRESH-INTERVAL;VALUE=DURATION:PT1H
X-Robots-Tag:noindex
X-PUBLISHED-TTL:PT1H
BEGIN:VTIMEZONE
TZID:America/New_York
BEGIN:DAYLIGHT
TZOFFSETFROM:-0500
TZOFFSETTO:-0400
TZNAME:EDT
DTSTART:20250309T070000
END:DAYLIGHT
BEGIN:STANDARD
TZOFFSETFROM:-0400
TZOFFSETTO:-0500
TZNAME:EST
DTSTART:20251102T060000
END:STANDARD
BEGIN:DAYLIGHT
TZOFFSETFROM:-0500
TZOFFSETTO:-0400
TZNAME:EDT
DTSTART:20260308T070000
END:DAYLIGHT
BEGIN:STANDARD
TZOFFSETFROM:-0400
TZOFFSETTO:-0500
TZNAME:EST
DTSTART:20261101T060000
END:STANDARD
BEGIN:DAYLIGHT
TZOFFSETFROM:-0500
TZOFFSETTO:-0400
TZNAME:EDT
DTSTART:20270314T070000
END:DAYLIGHT
BEGIN:STANDARD
TZOFFSETFROM:-0400
TZOFFSETTO:-0500
TZNAME:EST
DTSTART:20271107T060000
END:STANDARD
END:VTIMEZONE
BEGIN:VEVENT
DTSTART;TZID=America/New_York:20260317T000000
DTEND;TZID=America/New_York:20260322T000000
DTSTAMP:20260424T014232
CREATED:20260129T205249Z
LAST-MODIFIED:20260129T205249Z
UID:43911-1773705600-1774137600@www.uset.org
SUMMARY:CSIO5* Ocala - LLN Qualifier
DESCRIPTION:
URL:https://www.uset.org/event/csio5-ocala-lln-qualifier-2/
CATEGORIES:Jumping
END:VEVENT
BEGIN:VEVENT
DTSTART;TZID=America/New_York:20260318T000000
DTEND;TZID=America/New_York:20260322T000000
DTSTAMP:20260424T014232
CREATED:20260129T205249Z
LAST-MODIFIED:20260129T205249Z
UID:43912-1773792000-1774137600@www.uset.org
SUMMARY:Del Mar CDI3*
DESCRIPTION:
URL:https://www.uset.org/event/del-mar-cdi3-4/
CATEGORIES:Dressage
END:VEVENT
BEGIN:VEVENT
DTSTART;TZID=America/New_York:20260319T000000
DTEND;TZID=America/New_York:20260322T000000
DTSTAMP:20260424T014232
CREATED:20260129T205249Z
LAST-MODIFIED:20260129T205249Z
UID:43913-1773878400-1774137600@www.uset.org
SUMMARY:Wellington CDIO3*/CDIOU25
DESCRIPTION:
URL:https://www.uset.org/event/wellington-cdio3-cdiou25/
CATEGORIES:Dressage
END:VEVENT
BEGIN:VEVENT
DTSTART;TZID=America/New_York:20260319T000000
DTEND;TZID=America/New_York:20260322T000000
DTSTAMP:20260424T014232
CREATED:20260129T205249Z
LAST-MODIFIED:20260129T205249Z
UID:43914-1773878400-1774137600@www.uset.org
SUMMARY:Carolina International CCI & H.T.
DESCRIPTION:
URL:https://www.uset.org/event/carolina-international-cci-h-t-2/
CATEGORIES:Eventing
END:VEVENT
BEGIN:VEVENT
DTSTART;TZID=America/New_York:20260321T000000
DTEND;TZID=America/New_York:20260322T000000
DTSTAMP:20260424T014232
CREATED:20260129T205250Z
LAST-MODIFIED:20260129T205250Z
UID:43915-1774051200-1774137600@www.uset.org
SUMMARY:Spring Forward
DESCRIPTION:
URL:https://www.uset.org/event/spring-forward/
CATEGORIES:Vaulting
END:VEVENT
END:VCALENDAR