BEGIN:VCALENDAR
VERSION:2.0
PRODID:-//USET Foundation - ECPv6.15.11//NONSGML v1.0//EN
CALSCALE:GREGORIAN
METHOD:PUBLISH
X-WR-CALNAME:USET Foundation
X-ORIGINAL-URL:https://www.uset.org
X-WR-CALDESC:Events for USET Foundation
REFRESH-INTERVAL;VALUE=DURATION:PT1H
X-Robots-Tag:noindex
X-PUBLISHED-TTL:PT1H
BEGIN:VTIMEZONE
TZID:America/New_York
BEGIN:DAYLIGHT
TZOFFSETFROM:-0500
TZOFFSETTO:-0400
TZNAME:EDT
DTSTART:20240310T070000
END:DAYLIGHT
BEGIN:STANDARD
TZOFFSETFROM:-0400
TZOFFSETTO:-0500
TZNAME:EST
DTSTART:20241103T060000
END:STANDARD
BEGIN:DAYLIGHT
TZOFFSETFROM:-0500
TZOFFSETTO:-0400
TZNAME:EDT
DTSTART:20250309T070000
END:DAYLIGHT
BEGIN:STANDARD
TZOFFSETFROM:-0400
TZOFFSETTO:-0500
TZNAME:EST
DTSTART:20251102T060000
END:STANDARD
BEGIN:DAYLIGHT
TZOFFSETFROM:-0500
TZOFFSETTO:-0400
TZNAME:EDT
DTSTART:20260308T070000
END:DAYLIGHT
BEGIN:STANDARD
TZOFFSETFROM:-0400
TZOFFSETTO:-0500
TZNAME:EST
DTSTART:20261101T060000
END:STANDARD
END:VTIMEZONE
BEGIN:VEVENT
DTSTART;TZID=America/New_York:20250507T000000
DTEND;TZID=America/New_York:20250511T000000
DTSTAMP:20260421T132957
CREATED:20241212T172520Z
LAST-MODIFIED:20241213T215606Z
UID:39079-1746576000-1746921600@www.uset.org
SUMMARY:Badminton CCI5*-L
DESCRIPTION:
URL:https://www.uset.org/event/badminton-cci5-l-3/
CATEGORIES:Eventing
END:VEVENT
BEGIN:VEVENT
DTSTART;TZID=America/New_York:20250507T000000
DTEND;TZID=America/New_York:20250511T000000
DTSTAMP:20260421T132957
CREATED:20241212T172520Z
LAST-MODIFIED:20241213T215606Z
UID:39080-1746576000-1746921600@www.uset.org
SUMMARY:Tryon Spring International CCI4*-L
DESCRIPTION:
URL:https://www.uset.org/event/tryon-spring-international-cci4-l/
CATEGORIES:Eventing
END:VEVENT
BEGIN:VEVENT
DTSTART;TZID=America/New_York:20250508T000000
DTEND;TZID=America/New_York:20250510T000000
DTSTAMP:20260421T132957
CREATED:20241213T215606Z
LAST-MODIFIED:20241213T215606Z
UID:39263-1746662400-1746835200@www.uset.org
SUMMARY:Sherwood CVI
DESCRIPTION:
URL:https://www.uset.org/event/sherwood-cvi-2/
CATEGORIES:Vaulting
END:VEVENT
END:VCALENDAR